BEGIN:VCALENDAR
VERSION:2.0
PRODID:-//The Wedgewood Club - ECPv6.15.20//NONSGML v1.0//EN
CALSCALE:GREGORIAN
METHOD:PUBLISH
X-WR-CALNAME:The Wedgewood Club
X-ORIGINAL-URL:https://thewedgewoodclub.org
X-WR-CALDESC:Events for The Wedgewood Club
REFRESH-INTERVAL;VALUE=DURATION:PT1H
X-Robots-Tag:noindex
X-PUBLISHED-TTL:PT1H
BEGIN:VTIMEZONE
TZID:America/New_York
BEGIN:DAYLIGHT
TZOFFSETFROM:-0500
TZOFFSETTO:-0400
TZNAME:EDT
DTSTART:20250309T070000
END:DAYLIGHT
BEGIN:STANDARD
TZOFFSETFROM:-0400
TZOFFSETTO:-0500
TZNAME:EST
DTSTART:20251102T060000
END:STANDARD
BEGIN:DAYLIGHT
TZOFFSETFROM:-0500
TZOFFSETTO:-0400
TZNAME:EDT
DTSTART:20260308T070000
END:DAYLIGHT
BEGIN:STANDARD
TZOFFSETFROM:-0400
TZOFFSETTO:-0500
TZNAME:EST
DTSTART:20261101T060000
END:STANDARD
BEGIN:DAYLIGHT
TZOFFSETFROM:-0500
TZOFFSETTO:-0400
TZNAME:EDT
DTSTART:20270314T070000
END:DAYLIGHT
BEGIN:STANDARD
TZOFFSETFROM:-0400
TZOFFSETTO:-0500
TZNAME:EST
DTSTART:20271107T060000
END:STANDARD
END:VTIMEZONE
BEGIN:VEVENT
DTSTART;VALUE=DATE:20260422
DTEND;VALUE=DATE:20260423
DTSTAMP:20260422T083245
CREATED:20250327T160656Z
LAST-MODIFIED:20250521T213954Z
UID:10002933-1776816000-1776902399@thewedgewoodclub.org
SUMMARY:Swim & Dive Lessons
DESCRIPTION:https://docs.google.com/document/d/1EeLsvp6hFeYclezrLJm_VKQ6yUYGYFT_H_JMWPlvVAI/edit?usp=sharing
URL:https://thewedgewoodclub.org/event/swim-lessons-begin/2026-04-22/
CATEGORIES:Club,Swim Lessons
END:VEVENT
BEGIN:VEVENT
DTSTART;TZID=America/New_York:20260422T103000
DTEND;TZID=America/New_York:20260422T110000
DTSTAMP:20260422T083245
CREATED:20250516T135411Z
LAST-MODIFIED:20250516T135411Z
UID:10002687-1776853800-1776855600@thewedgewoodclub.org
SUMMARY:Munchkin Tennis Lessons
DESCRIPTION:Youth Tennis Lessons
URL:https://thewedgewoodclub.org/event/munchkin-tennis-lessons-2/2026-04-22/
CATEGORIES:Club,Tennis Lessons
END:VEVENT
BEGIN:VEVENT
DTSTART;VALUE=DATE:20260423
DTEND;VALUE=DATE:20260424
DTSTAMP:20260422T083245
CREATED:20250327T160656Z
LAST-MODIFIED:20250521T213954Z
UID:10002934-1776902400-1776988799@thewedgewoodclub.org
SUMMARY:Swim & Dive Lessons
DESCRIPTION:https://docs.google.com/document/d/1EeLsvp6hFeYclezrLJm_VKQ6yUYGYFT_H_JMWPlvVAI/edit?usp=sharing
URL:https://thewedgewoodclub.org/event/swim-lessons-begin/2026-04-23/
CATEGORIES:Club,Swim Lessons
END:VEVENT
BEGIN:VEVENT
DTSTART;TZID=America/New_York:20260423T180000
DTEND;TZID=America/New_York:20260423T193000
DTSTAMP:20260422T083245
CREATED:20250504T220437Z
LAST-MODIFIED:20250708T203351Z
UID:10002566-1776967200-1776972600@thewedgewoodclub.org
SUMMARY:Pickleball with John & Lexi
DESCRIPTION:Get ready for the summer pickleball season! New players will learn how to play at the beginner’s lesson\, and more experienced players can dink away during drills and games. Pickleball is an easy game to learn\, so players can attend one or both lessons and become pickleballers in no time! \nThe Club has a limited number of paddles for people to borrow. Please bring your own if you can. \n6:00-7:30 pm \n45 minutes of drills followed by 45 minutes of game play \nFee: $15 \nSign up at https://www.signupgenius.com/go/60B0545AEAB2CA1FE3-56686150-picklball
URL:https://thewedgewoodclub.org/event/pickleball-with-john-lexi/2026-04-23/
CATEGORIES:Adult Tennis,Club
END:VEVENT
BEGIN:VEVENT
DTSTART;TZID=America/New_York:20260423T183000
DTEND;TZID=America/New_York:20260423T191500
DTSTAMP:20260422T083245
CREATED:20250708T204739Z
LAST-MODIFIED:20250708T204739Z
UID:10003109-1776969000-1776971700@thewedgewoodclub.org
SUMMARY:Hydro Training
DESCRIPTION:
URL:https://thewedgewoodclub.org/event/hydro-training-6/2026-04-23/
CATEGORIES:Club
ATTACH;FMTTYPE=image/png:https://thewedgewoodclub.org/wp-content/uploads/2025/07/Screenshot-2025-07-08-at-4.43.32 PM.png
END:VEVENT
BEGIN:VEVENT
DTSTART;VALUE=DATE:20260424
DTEND;VALUE=DATE:20260425
DTSTAMP:20260422T083245
CREATED:20250327T160656Z
LAST-MODIFIED:20250521T213954Z
UID:10002935-1776988800-1777075199@thewedgewoodclub.org
SUMMARY:Swim & Dive Lessons
DESCRIPTION:https://docs.google.com/document/d/1EeLsvp6hFeYclezrLJm_VKQ6yUYGYFT_H_JMWPlvVAI/edit?usp=sharing
URL:https://thewedgewoodclub.org/event/swim-lessons-begin/2026-04-24/
CATEGORIES:Club,Swim Lessons
END:VEVENT
BEGIN:VEVENT
DTSTART;VALUE=DATE:20260427
DTEND;VALUE=DATE:20260428
DTSTAMP:20260422T083245
CREATED:20250327T160656Z
LAST-MODIFIED:20250521T213954Z
UID:10002936-1777248000-1777334399@thewedgewoodclub.org
SUMMARY:Swim & Dive Lessons
DESCRIPTION:https://docs.google.com/document/d/1EeLsvp6hFeYclezrLJm_VKQ6yUYGYFT_H_JMWPlvVAI/edit?usp=sharing
URL:https://thewedgewoodclub.org/event/swim-lessons-begin/2026-04-27/
CATEGORIES:Club,Swim Lessons
END:VEVENT
BEGIN:VEVENT
DTSTART;TZID=America/New_York:20260427T103000
DTEND;TZID=America/New_York:20260427T110000
DTSTAMP:20260422T083245
CREATED:20250516T135411Z
LAST-MODIFIED:20250516T135411Z
UID:10002688-1777285800-1777287600@thewedgewoodclub.org
SUMMARY:Munchkin Tennis Lessons
DESCRIPTION:Youth Tennis Lessons
URL:https://thewedgewoodclub.org/event/munchkin-tennis-lessons-2/2026-04-27/
CATEGORIES:Club,Tennis Lessons
END:VEVENT
BEGIN:VEVENT
DTSTART;VALUE=DATE:20260428
DTEND;VALUE=DATE:20260429
DTSTAMP:20260422T083245
CREATED:20250327T160656Z
LAST-MODIFIED:20250521T213954Z
UID:10002937-1777334400-1777420799@thewedgewoodclub.org
SUMMARY:Swim & Dive Lessons
DESCRIPTION:https://docs.google.com/document/d/1EeLsvp6hFeYclezrLJm_VKQ6yUYGYFT_H_JMWPlvVAI/edit?usp=sharing
URL:https://thewedgewoodclub.org/event/swim-lessons-begin/2026-04-28/
CATEGORIES:Club,Swim Lessons
END:VEVENT
BEGIN:VEVENT
DTSTART;TZID=America/New_York:20260428T183000
DTEND;TZID=America/New_York:20260428T191500
DTSTAMP:20260422T083245
CREATED:20250708T204739Z
LAST-MODIFIED:20250708T204739Z
UID:10003110-1777401000-1777403700@thewedgewoodclub.org
SUMMARY:Hydro Training
DESCRIPTION:
URL:https://thewedgewoodclub.org/event/hydro-training-6/2026-04-28/
CATEGORIES:Club
ATTACH;FMTTYPE=image/png:https://thewedgewoodclub.org/wp-content/uploads/2025/07/Screenshot-2025-07-08-at-4.43.32 PM.png
END:VEVENT
BEGIN:VEVENT
DTSTART;VALUE=DATE:20260429
DTEND;VALUE=DATE:20260430
DTSTAMP:20260422T083245
CREATED:20250327T160656Z
LAST-MODIFIED:20250521T213954Z
UID:10002938-1777420800-1777507199@thewedgewoodclub.org
SUMMARY:Swim & Dive Lessons
DESCRIPTION:https://docs.google.com/document/d/1EeLsvp6hFeYclezrLJm_VKQ6yUYGYFT_H_JMWPlvVAI/edit?usp=sharing
URL:https://thewedgewoodclub.org/event/swim-lessons-begin/2026-04-29/
CATEGORIES:Club,Swim Lessons
END:VEVENT
BEGIN:VEVENT
DTSTART;TZID=America/New_York:20260429T103000
DTEND;TZID=America/New_York:20260429T110000
DTSTAMP:20260422T083245
CREATED:20250516T135411Z
LAST-MODIFIED:20250516T135411Z
UID:10002689-1777458600-1777460400@thewedgewoodclub.org
SUMMARY:Munchkin Tennis Lessons
DESCRIPTION:Youth Tennis Lessons
URL:https://thewedgewoodclub.org/event/munchkin-tennis-lessons-2/2026-04-29/
CATEGORIES:Club,Tennis Lessons
END:VEVENT
BEGIN:VEVENT
DTSTART;VALUE=DATE:20260430
DTEND;VALUE=DATE:20260501
DTSTAMP:20260422T083245
CREATED:20250327T160656Z
LAST-MODIFIED:20250521T213954Z
UID:10002939-1777507200-1777593599@thewedgewoodclub.org
SUMMARY:Swim & Dive Lessons
DESCRIPTION:https://docs.google.com/document/d/1EeLsvp6hFeYclezrLJm_VKQ6yUYGYFT_H_JMWPlvVAI/edit?usp=sharing
URL:https://thewedgewoodclub.org/event/swim-lessons-begin/2026-04-30/
CATEGORIES:Club,Swim Lessons
END:VEVENT
BEGIN:VEVENT
DTSTART;TZID=America/New_York:20260430T180000
DTEND;TZID=America/New_York:20260430T193000
DTSTAMP:20260422T083245
CREATED:20250504T220437Z
LAST-MODIFIED:20250708T203351Z
UID:10002567-1777572000-1777577400@thewedgewoodclub.org
SUMMARY:Pickleball with John & Lexi
DESCRIPTION:Get ready for the summer pickleball season! New players will learn how to play at the beginner’s lesson\, and more experienced players can dink away during drills and games. Pickleball is an easy game to learn\, so players can attend one or both lessons and become pickleballers in no time! \nThe Club has a limited number of paddles for people to borrow. Please bring your own if you can. \n6:00-7:30 pm \n45 minutes of drills followed by 45 minutes of game play \nFee: $15 \nSign up at https://www.signupgenius.com/go/60B0545AEAB2CA1FE3-56686150-picklball
URL:https://thewedgewoodclub.org/event/pickleball-with-john-lexi/2026-04-30/
CATEGORIES:Adult Tennis,Club
END:VEVENT
BEGIN:VEVENT
DTSTART;TZID=America/New_York:20260430T183000
DTEND;TZID=America/New_York:20260430T191500
DTSTAMP:20260422T083245
CREATED:20250708T204739Z
LAST-MODIFIED:20250708T204739Z
UID:10003111-1777573800-1777576500@thewedgewoodclub.org
SUMMARY:Hydro Training
DESCRIPTION:
URL:https://thewedgewoodclub.org/event/hydro-training-6/2026-04-30/
CATEGORIES:Club
ATTACH;FMTTYPE=image/png:https://thewedgewoodclub.org/wp-content/uploads/2025/07/Screenshot-2025-07-08-at-4.43.32 PM.png
END:VEVENT
END:VCALENDAR